BEGIN:VCALENDAR
VERSION:2.0
PRODID:-//Greenville Gemstone Mine - ECPv4.6.20.1//NONSGML v1.0//EN
CALSCALE:GREGORIAN
METHOD:PUBLISH
X-WR-CALNAME:Greenville Gemstone Mine
X-ORIGINAL-URL:http://www.greenvillegemstonemine.com
X-WR-CALDESC:Events for Greenville Gemstone Mine
BEGIN:VEVENT
DTSTART;VALUE=DATE:20230906
DTEND;VALUE=DATE:20230928
DTSTAMP:20260425T020029
CREATED:20230906T162808Z
LAST-MODIFIED:20230906T162808Z
UID:719-1693958400-1695859199@www.greenvillegemstonemine.com
SUMMARY:Greenville Center for Creative Arts Annual Showcase
DESCRIPTION:The Annual Showcase is GCCA’s premier event for artists and art lovers of all ages\, featuring an exhibition highlighting the talent of GCCA’s own member artists alongside a special exhibit from the Brandon Fellows\, a display of youth artwork created during their Summer Art Camps; live artists demos; the launch of their fall schedule of classes; visits with 25 studio artists; a kids’ craft activity provided by ReCraft; and more!  \nTuesday-Friday: 9am-5pm.  Saturday: 11am-3pm \n
URL:http://www.greenvillegemstonemine.com/event/greenville-center-for-creative-arts-annual-showcase/
LOCATION:101 Abney St\, Greenville\, SC\, 29611\, United States
END:VEVENT
END:VCALENDAR